Workbook

Sheet 記入例
A1: 令和８年度 北海道教育大学附属函館中学校 入学調査書 | AV1: ※受検番号
A6: １．志 願 者
A9: ふりがな | I9: ふぞく はなこ | BJ9: 性別
A11: 氏 名 | I11: 附属 花子 | BJ11: 女
A15: 生年月日 | I15: 平成 | AJ15: 25 | AP15: 年 | AT15: 5 | AZ15: 月 | BD15: 12 | BJ15: 日生
A17: 現 住 所 | I17: 函館市美原３丁目４８番６号
A21: ２．各 教 科 の 学 習 の 記 録 | AH21: ３．行 動 の 記 録
A24: 教 科 | D24: 観 点 別 学 習 状 況 | BF24: ５年 | BJ24: ６年
AB27: ５年 | AE27: ６年
AH28: 基本的な生活習慣 | BF28: ◎ | BJ28: ○
AH30: 健康・体力の向上 | BF30: ◎ | BJ30: △
A31: 国語 | D31: 知識・技能 | AB31: A | AE31: A
AH32: 自主・自律 | BF32: ◎ | BJ32: ○
D33: 思考・判断・表現 | AB33: A | AE33: B
AH34: 責任感 | BF34: ◎ | BJ34: ○
D35: 主体的に学習に取り組む態度 | AB35: A | AE35: C
AH36: 創意工夫 | BF36: ◎ | BJ36: ○
A37: 社会 | D37: 知識・技能 | AB37: A | AE37: A
AH38: 思いやり・協力 | BF38: ◎ | BJ38: ○
D39: 思考・判断・表現 | AB39: A | AE39: B
AH40: 生命尊重・自然愛護 | BF40: ◎ | BJ40: ○
D41: 主体的に学習に取り組む態度 | AB41: A | AE41: C
AH42: 勤労・奉仕 | BF42: ◎ | BJ42: ○
A43: 算数 | D43: 知識・技能 | AB43: A | AE43: A
AH44: 公正・公平 | BF44: ◎ | BJ44: ○
D45: 思考・判断・表現 | AB45: A | AE45: B
AH46: 公共心・公徳心 | BF46: ◎ | BJ46: ○
D47: 主体的に学習に取り組む態度 | AB47: A | AE47: C
AH48: ４．特 別 活 動 の 記 録
A49: 理科 | D49: 知識・技能 | AB49: A | AE49: A
D51: 思考・判断・表現 | AB51: A | AE51: B | AP51: ５ 年 | BB51: ６ 年 ※９月末現在
D53: 主体的に学習に取り組む態度 | AB53: A | AE53: C
A55: 音楽 | D55: 知識・技能 | AB55: A | AE55: A | AH55: 学 級 活 動 | AP55: 学級委員･広報係 | BB55: 学級書記・健康係
D57: 思考・判断・表現 | AB57: A | AE57: B
D59: 主体的に学習に取り組む態度 | AB59: A | AE59: C | AH59: 児童会 活 動 | AP59: なし | BB59: 児童会副会長 広報委員
A61: 図画工作 | D61: 知識・技能 | AB61: A | AE61: A
D63: 思考・判断・表現 | AB63: A | AE63: B | AH63: クラブ 活 動 | AP63: バスケットボール部 | BB63: バスケットボール部 （キャプテン）
D65: 主体的に学習に取り組む態度 | AB65: A | AE65: C
A67: 家庭 | D67: 知識・技能 | AB67: A | AE67: A | AH67: ５．出 欠 の 記 録
D69: 思考・判断・表現 | AB69: A | AE69: B
...

Sheet 印刷用
A1: 令和８年度 北海道教育大学附属函館中学校 入学調査書 | AV1: ※受検番号
A6: １．志 願 者 | BR6: 【印刷番号】
A9: ふりがな | I9: =IF($BR$9="","",IF(VLOOKUP($BR$9,小５_データ入力シート!$A$7:$AY$106,3)="","",VLOOKUP($BR$9,小５_データ入力シート!$A$7:$AY$106,3))) | BJ9: 性別
A11: 氏 名 | I11: =IF($BR$9="","",IF(VLOOKUP($BR$9,小５_データ入力シート!$A$7:$AY$106,2)="","",VLOOKUP($BR$9,小５_データ入力シート!$A$7:$AY$106,2))) | BJ11: =IF($BR$9="","",IF(VLOOKUP($BR$9,小５_データ入力シート!$A$7:$AY$106,4)="","",VLOOKUP($BR$9,小５_データ入力シート!$A$7:$AY$106,4)))
A15: 生年月日 | I15: 平成 | AJ15: =IF($BR$9="","",IF(VLOOKUP($BR$9,小５_データ入力シート!$A$7:$AY$106,5)="","",VLOOKUP($BR$9,小５_データ入力シート!$A$7:$AY$106,5))) | AP15: 年 | AT15: =IF($BR$9="","",IF(VLOOKUP($BR$9,小５_データ入力シート!$A$7:$AY$106,6)="","",VLOOKUP($BR$9,小５_データ入力シート!$A$7:$AY$106,6))) | AZ15: 月 | BD15: =IF($BR$9="","",IF(VLOOKUP($BR$9,小５_データ入力シート!$A$7:$AY$106,7)="","",VLOOKUP($BR$9,小５_データ入力シート!$A$7:$AY$106,7))) | BJ15: 日生
A17: 現 住 所 | I17: =IF($BR$9="","",IF(VLOOKUP($BR$9,小５_データ入力シート!$A$7:$AY$106,8)="","",VLOOKUP($BR$9,小５_データ入力シート!$A$7:$AY$106,8)))
A21: ２．各 教 科 の 学 習 の 記 録 | AH21: ３．行 動 の 記 録
A24: 教 科 | D24: 観 点 別 学 習 状 況 | BF24: ５年 | BJ24: ６年
AB27: ５年 | AE27: ６年
AH28: 基本的な生活習慣 | BF28: =IF($BR$9="","",IF(VLOOKUP($BR$9,小５_データ入力シート!$A$7:$AY$106,36)="","",VLOOKUP($BR$9,小５_データ入力シート!$A$7:$AY$106,36))) | BJ28: =IF($BR$9="","",IF(VLOOKUP($BR$9,小６_データ入力シート!$A$7:$AY$106,36)="","",VLOOKUP($BR$9,小６_データ入力シート!$A$7:$AY$106,36)))
AH30: 健康・体力の向上 | BF30: =IF($BR$9="","",IF(VLOOKUP($BR$9,小５_データ入力シート!$A$7:$AY$106,37)="","",VLOOKUP($BR$9,小５_データ入力シート!$A$7:$AY$106,37))) | BJ30: =IF($BR$9="","",IF(VLOOKUP($BR$9,小６_データ入力シート!$A$7:$AY$106,37)="","",VLOOKUP($BR$9,小６_データ入力シート!$A$7:$AY$106,37)))
A31: 国語 | D31: 知識・技能 | AB31: =IF($BR$9="","",IF(VLOOKUP($BR$9,小５_データ入力シート!$A$7:$AY$106,9)="","",VLOOKUP($BR$9,小５_データ入力シート!$A$7:$AY$106,9))) | AE31: =IF($BR$9="","",IF(VLOOKUP($BR$9,小６_データ入力シート!$A$7:$AY$106,9)="","",VLOOKUP($BR$9,小６_データ入力シート!$A$7:$AY$106,9)))
AH32: 自主・自律 | BF32: =IF($BR$9="","",IF(VLOOKUP($BR$9,小５_データ入力シート!$A$7:$AY$106,38)="","",VLOOKUP($BR$9,小５_データ入力シート!$A$7:$AY$106,38))) | BJ32: =IF($BR$9="","",IF(VLOOKUP($BR$9,小６_データ入力シート!$A$7:$AY$106,38)="","",VLOOKUP($BR$9,小６_データ入力シート!$A$7:$AY$106,38)))
D33: 思考・判断・表現 | AB33: =IF($BR$9="","",IF(VLOOKUP($BR$9,小５_データ入力シート!$A$7:$AY$106,10)="","",VLOOKUP($BR$9,小５_データ入力シート!$A$7:$AY$106,10))) | AE33: =IF($BR$9="","",IF(VLOOKUP($BR$9,小６_データ入力シート!$A$7:$AY$106,10)="","",VLOOKUP($BR$9,小６_データ入力シート!$A$7:$AY$106,10)))
AH34: 責任感 | BF34: =IF($BR$9="","",IF(VLOOKUP($BR$9,小５_データ入力シート!$A$7:$AY$106,39)="","",VLOOKUP($BR$9,小５_データ入力シート!$A$7:$AY$106,39))) | BJ34: =IF($BR$9="","",IF(VLOOKUP($BR$9,小６_データ入力シート!$A$7:$AY$106,39)="","",VLOOKUP($BR$9,小６_データ入力シート!$A$7:$AY$106,39)))
D35: 主体的に学習に取り組む態度 | AB35: =IF($BR$9="","",IF(VLOOKUP($BR$9,小５_データ入力シート!$A$7:$AY$106,11)="","",VLOOKUP($BR$9,小５_データ入力シート!$A$7:$AY$106,11))) | AE35: =IF($BR$9="","",IF(VLOOKUP($BR$9,小６_データ入力シート!$A$7:$AY$106,11)="","",VLOOKUP($BR$9,小６_データ入力シート!$A$7:$AY$106,11)))
AH36: 創意工夫 | BF36: =IF($BR$9="","",IF(VLOOKUP($BR$9,小５_データ入力シート!$A$7:$AY$106,40)="","",VLOOKUP($BR$9,小５_データ入力シート!$A$7:$AY$106,40))) | BJ36: =IF($BR$9="","",IF(VLOOKUP($BR$9,小６_データ入力シート!$A$7:$AY$106,40)="","",VLOOKUP($BR$9,小６_データ入力シート!$A$7:$AY$106,40)))
A37: 社会 | D37: 知識・技能 | AB37: =IF($BR$9="","",IF(VLOOKUP($BR$9,小５_データ入力シート!$A$7:$AY$106,12)="","",VLOOKUP($BR$9,小５_データ入力シート!$A$7:$AY$106,12))) | AE37: =IF($BR$9="","",IF(VLOOKUP($BR$9,小６_データ入力シート!$A$7:$AY$106,12)="","",VLOOKUP($BR$9,小６_データ入力シート!$A$7:$AY$106,12)))
AH38: 思いやり・協力 | BF38: =IF($BR$9="","",IF(VLOOKUP($BR$9,小５_データ入力シート!$A$7:$AY$106,41)="","",VLOOKUP($BR$9,小５_データ入力シート!$A$7:$AY$106,41))) | BJ38: =IF($BR$9="","",IF(VLOOKUP($BR$9,小６_データ入力シート!$A$7:$AY$106,41)="","",VLOOKUP($BR$9,小６_データ入力シート!$A$7:$AY$106,41)))
D39: 思考・判断・表現 | AB39: =IF($BR$9="","",IF(VLOOKUP($BR$9,小５_データ入力シート!$A$7:$AY$106,13)="","",VLOOKUP($BR$9,小５_データ入力シート!$A$7:$AY$106,13))) | AE39: =IF($BR$9="","",IF(VLOOKUP($BR$9,小６_データ入力シート!$A$7:$AY$106,13)="","",VLOOKUP($BR$9,小６_データ入力シート!$A$7:$AY$106,13)))
AH40: 生命尊重・自然愛護 | BF40: =IF($BR$9="","",IF(VLOOKUP($BR$9,小５_データ入力シート!$A$7:$AY$106,42)="","",VLOOKUP($BR$9,小５_データ入力シート!$A$7:$AY$106,42))) | BJ40: =IF($BR$9="","",IF(VLOOKUP($BR$9,小６_データ入力シート!$A$7:$AY$106,42)="","",VLOOKUP($BR$9,小６_データ入力シート!$A$7:$AY$106,42)))
D41: 主体的に学習に取り組む態度 | AB41: =IF($BR$9="","",IF(VLOOKUP($BR$9,小５_データ入力シート!$A$7:$AY$106,14)="","",VLOOKUP($BR$9,小５_データ入力シート!$A$7:$AY$106,14))) | AE41: =IF($BR$9="","",IF(VLOOKUP($BR$9,小６_データ入力シート!$A$7:$AY$106,14)="","",VLOOKUP($BR$9,小６_データ入力シート!$A$7:$AY$106,14)))
AH42: 勤労・奉仕 | BF42: =IF($BR$9="","",IF(VLOOKUP($BR$9,小５_データ入力シート!$A$7:$AY$106,43)="","",VLOOKUP($BR$9,小５_データ入力シート!$A$7:$AY$106,43))) | BJ42: =IF($BR$9="","",IF(VLOOKUP($BR$9,小６_データ入力シート!$A$7:$AY$106,43)="","",VLOOKUP($BR$9,小６_データ入力シート!$A$7:$AY$106,43)))
A43: 算数 | D43: 知識・技能 | AB43: =IF($BR$9="","",IF(VLOOKUP($BR$9,小５_データ入力シート!$A$7:$AY$106,15)="","",VLOOKUP($BR$9,小５_データ入力シート!$A$7:$AY$106,15))) | AE43: =IF($BR$9="","",IF(VLOOKUP($BR$9,小６_データ入力シート!$A$7:$AY$106,15)="","",VLOOKUP($BR$9,小６_データ入力シート!$A$7:$AY$106,15)))
AH44: 公正・公平 | BF44: =IF($BR$9="","",IF(VLOOKUP($BR$9,小５_データ入力シート!$A$7:$AY$106,44)="","",VLOOKUP($BR$9,小５_データ入力シート!$A$7:$AY$106,44))) | BJ44: =IF($BR$9="","",IF(VLOOKUP($BR$9,小６_データ入力シート!$A$7:$AY$106,44)="","",VLOOKUP($BR$9,小６_データ入力シート!$A$7:$AY$106,44)))
D45: 思考・判断・表現 | AB45: =IF($BR$9="","",IF(VLOOKUP($BR$9,小５_データ入力シート!$A$7:$AY$106,16)="","",VLOOKUP($BR$9,小５_データ入力シート!$A$7:$AY$106,16))) | AE45: =IF($BR$9="","",IF(VLOOKUP($BR$9,小６_データ入力シート!$A$7:$AY$106,16)="","",VLOOKUP($BR$9,小６_データ入力シート!$A$7:$AY$106,16)))
AH46: 公共心・公徳心 | BF46: =IF($BR$9="","",IF(VLOOKUP($BR$9,小５_データ入力シート!$A$7:$AY$106,45)="","",VLOOKUP($BR$9,小５_データ入力シート!$A$7:$AY$106,45))) | BJ46: =IF($BR$9="","",IF(VLOOKUP($BR$9,小６_データ入力シート!$A$7:$AY$106,45)="","",VLOOKUP($BR$9,小６_データ入力シート!$A$7:$AY$106,45)))
D47: 主体的に学習に取り組む態度 | AB47: =IF($BR$9="","",IF(VLOOKUP($BR$9,小５_データ入力シート!$A$7:$AY$106,17)="","",VLOOKUP($BR$9,小５_データ入力シート!$A$7:$AY$106,17))) | AE47: =IF($BR$9="","",IF(VLOOKUP($BR$9,小６_データ入力シート!$A$7:$AY$106,17)="","",VLOOKUP($BR$9,小６_データ入力シート!$A$7:$AY$106,17)))
AH48: ４．特 別 活 動 の 記 録
A49: 理科 | D49: 知識・技能 | AB49: =IF($BR$9="","",IF(VLOOKUP($BR$9,小５_データ入力シート!$A$7:$AY$106,18)="","",VLOOKUP($BR$9,小５_データ入力シート!$A$7:$AY$106,18))) | AE49: =IF($BR$9="","",IF(VLOOKUP($BR$9,小６_データ入力シート!$A$7:$AY$106,18)="","",VLOOKUP($BR$9,小６_データ入力シート!$A$7:$AY$106,18)))
D51: 思考・判断・表現 | AB51: =IF($BR$9="","",IF(VLOOKUP($BR$9,小５_データ入力シート!$A$7:$AY$106,19)="","",VLOOKUP($BR$9,小５_データ入力シート!$A$7:$AY$106,19))) | AE51: =IF($BR$9="","",IF(VLOOKUP($BR$9,小６_データ入力シート!$A$7:$AY$106,19)="","",VLOOKUP($BR$9,小６_データ入力シート!$A$7:$AY$106,19))) | AP51: ５ 年 | BB51: ６ 年 ※９月末現在
D53: 主体的に学習に取り組む態度 | AB53: =IF($BR$9="","",IF(VLOOKUP($BR$9,小５_データ入力シート!$A$7:$AY$106,20)="","",VLOOKUP($BR$9,小５_データ入力シート!$A$7:$AY$106,20))) | AE53: =IF($BR$9="","",IF(VLOOKUP($BR$9,小６_データ入力シート!$A$7:$AY$106,20)="","",VLOOKUP($BR$9,小６_データ入力シート!$A$7:$AY$106,20)))
A55: 音楽 | D55: 知識・技能 | AB55: =IF($BR$9="","",IF(VLOOKUP($BR$9,小５_データ入力シート!$A$7:$AY$106,21)="","",VLOOKUP($BR$9,小５_データ入力シート!$A$7:$AY$106,21))) | AE55: =IF($BR$9="","",IF(VLOOKUP($BR$9,小６_データ入力シート!$A$7:$AY$106,21)="","",VLOOKUP($BR$9,小６_データ入力シート!$A$7:$AY$106,21))) | AH55: 学 級 活 動 | AP55: =IF($BR$9="","",IF(VLOOKUP($BR$9,小５_データ入力シート!$A$7:$AY$106,46)="","",VLOOKUP($BR$9,小５_データ入力シート!$A$7:$AY$106,46))) | BB55: =IF($BR$9="","",IF(VLOOKUP($BR$9,小６_データ入力シート!$A$7:$AY$106,46)="","",VLOOKUP($BR$9,小６_データ入力シート!$A$7:$AY$106,46)))
D57: 思考・判断・表現 | AB57: =IF($BR$9="","",IF(VLOOKUP($BR$9,小５_データ入力シート!$A$7:$AY$106,22)="","",VLOOKUP($BR$9,小５_データ入力シート!$A$7:$AY$106,22))) | AE57: =IF($BR$9="","",IF(VLOOKUP($BR$9,小６_データ入力シート!$A$7:$AY$106,22)="","",VLOOKUP($BR$9,小６_データ入力シート!$A$7:$AY$106,22)))
D59: 主体的に学習に取り組む態度 | AB59: =IF($BR$9="","",IF(VLOOKUP($BR$9,小５_データ入力シート!$A$7:$AY$106,23)="","",VLOOKUP($BR$9,小５_データ入力シート!$A$7:$AY$106,23))) | AE59: =IF($BR$9="","",IF(VLOOKUP($BR$9,小６_データ入力シート!$A$7:$AY$106,23)="","",VLOOKUP($BR$9,小６_データ入力シート!$A$7:$AY$106,23))) | AH59: 児童会 活 動 | AP59: =IF($BR$9="","",IF(VLOOKUP($BR$9,小５_データ入力シート!$A$7:$AY$106,47)="","",VLOOKUP($BR$9,小５_データ入力シート!$A$7:$AY$106,47))) | BB59: =IF($BR$9="","",IF(VLOOKUP($BR$9,小６_データ入力シート!$A$7:$AY$106,47)="","",VLOOKUP($BR$9,小６_データ入力シート!$A$7:$AY$106,47)))
A61: 図画工作 | D61: 知識・技能 | AB61: =IF($BR$9="","",IF(VLOOKUP($BR$9,小５_データ入力シート!$A$7:$AY$106,24)="","",VLOOKUP($BR$9,小５_データ入力シート!$A$7:$AY$106,24))) | AE61: =IF($BR$9="","",IF(VLOOKUP($BR$9,小６_データ入力シート!$A$7:$AY$106,24)="","",VLOOKUP($BR$9,小６_データ入力シート!$A$7:$AY$106,24)))
D63: 思考・判断・表現 | AB63: =IF($BR$9="","",IF(VLOOKUP($BR$9,小５_データ入力シート!$A$7:$AY$106,25)="","",VLOOKUP($BR$9,小５_データ入力シート!$A$7:$AY$106,25))) | AE63: =IF($BR$9="","",IF(VLOOKUP($BR$9,小６_データ入力シート!$A$7:$AY$106,25)="","",VLOOKUP($BR$9,小６_データ入力シート!$A$7:$AY$106,25))) | AH63: クラブ 活 動 | AP63: =IF($BR$9="","",IF(VLOOKUP($BR$9,小５_データ入力シート!$A$7:$AY$106,48)="","",VLOOKUP($BR$9,小５_データ入力シート!$A$7:$AY$106,48))) | BB63: =IF($BR$9="","",IF(VLOOKUP($BR$9,小６_データ入力シート!$A$7:$AY$106,48)="","",VLOOKUP($BR$9,小６_データ入力シート!$A$7:$AY$106,48)))
D65: 主体的に学習に取り組む態度 | AB65: =IF($BR$9="","",IF(VLOOKUP($BR$9,小５_データ入力シート!$A$7:$AY$106,26)="","",VLOOKUP($BR$9,小５_データ入力シート!$A$7:$AY$106,26))) | AE65: =IF($BR$9="","",IF(VLOOKUP($BR$9,小６_データ入力シート!$A$7:$AY$106,26)="","",VLOOKUP($BR$9,小６_データ入力シート!$A$7:$AY$106,26)))
A67: 家庭 | D67: 知識・技能 | AB67: =IF($BR$9="","",IF(VLOOKUP($BR$9,小５_データ入力シート!$A$7:$AY$106,27)="","",VLOOKUP($BR$9,小５_データ入力シート!$A$7:$AY$106,27))) | AE67: =IF($BR$9="","",IF(VLOOKUP($BR$9,小６_データ入力シート!$A$7:$AY$106,27)="","",VLOOKUP($BR$9,小６_データ入力シート!$A$7:$AY$106,27))) | AH67: ５．出 欠 の 記 録
D69: 思考・判断・表現 | AB69: =IF($BR$9="","",IF(VLOOKUP($BR$9,小５_データ入力シート!$A$7:$AY$106,28)="","",VLOOKUP($BR$9,小５_データ入力シート!$A$7:$AY$106,28))) | AE69: =IF($BR$9="","",IF(VLOOKUP($BR$9,小６_データ入力シート!$A$7:$AY$106,28)="","",VLOOKUP($BR$9,小６_データ入力シート!$A$7:$AY$106,28)))
...

Sheet 記載者データ入力シート
B1: 記載者データ
B2: ※下記、黄色の枠に必要事項を記入してください。
B4: 記載年月日 ※保護者が出願を予定している日付を入力してください。
B5: 令和 | D5: 年 | F5: 月 | H5: 日
B7: 出身小学校名
D8: 立 | H8: 小学校
B10: 校長氏名 ※印刷後は職印の押印をお願いいたします。
B13: 記載責任者氏名 ※印刷後は記載責任者の押印をお願いいたします。

Sheet 小５_データ入力シート
A1: 小５_データ入力シート ※黄色のセルに必要事項を入力してください。 ※「印刷用」シートに印刷番号を入力して印刷してください。
A2: 1 | B2: 2 | C2: 3 | D2: 4 | E2: 5 | F2: 6 | G2: 7 | H2: 8 | I2: 9 | J2: 10 | K2: 11 | L2: 12 | M2: 13 | N2: 14 | O2: 15 | P2: 16 | Q2: 17 | R2: 18 | S2: 19 | T2: 20 | U2: 21 | V2: 22 | W2: 23 | X2: 24 | Y2: 25 | Z2: 26 | AA2: 27 | AB2: 28 | AC2: 29 | AD2: 30 | AE2: 31 | AF2: 32 | AG2: 33 | AH2: 34 | AI2: 35 | AJ2: 36 | AK2: 37 | AL2: 38 | AM2: 39 | AN2: 40 | AO2: 41 | AP2: 42 | AQ2: 43 | AR2: 44 | AS2: 45 | AT2: 46 | AU2: 47 | AV2: 48 | AW2: 49 | AX2: 50 | AY2: 51 | AZ2: 52
A3: 印刷 番号 | B3: １．志願者 | I3: ２．各教科の学習の記録 ※評価は「A」・「B」・「C」の３段階評価で入力してください。 | AJ3: ３．行動の記録 | AT3: ４．特別活動の記録 | AW3: ５．出欠の記録 ※「出席日数」は自動計算のため入力の必要はありません。
B4: 氏名 （漢字） | C4: ふりがな （ひらがな） | D4: 性 別 | E4: 生年月日 | H4: 現住所 | I4: 国語 | L4: 社会 | O4: 算数 | R4: 理科 | U4: 音楽 | X4: 図画工作 | AA4: 家庭 | AD4: 体育 | AG4: 外国語 | AJ4: ※「◎」・「○」・「△」の３段階評価で入力してください。 | AT4: 学習活動 | AU4: 児童会活動 | AV4: クラブ活動 | AW4: 出席すべ き日数 | AX4: 欠席 日数 | AY4: 欠席理由（最大２５字以内） | AZ4: 字数
E5: 平成 | F5: 月 | G5: 日生 | I5: 知 | J5: 思 | K5: 主 | L5: 知 | M5: 思 | N5: 主 | O5: 知 | P5: 思 | Q5: 主 | R5: 知 | S5: 思 | T5: 主 | U5: 知 | V5: 思 | W5: 主 | X5: 知 | Y5: 思 | Z5: 主 | AA5: 知 | AB5: 思 | AC5: 主 | AD5: 知 | AE5: 思 | AF5: 主 | AG5: 知 | AH5: 思 | AI5: 主 | AJ5: 基本 | AK5: 健康 | AL5: 自主 | AM5: 責任 | AN5: 創意 | AO5: 思い | AP5: 生命 | AQ5: 勤労 | AR5: 公正 | AS5: 公共
A6: 記入例 | B6: 附属 花子 | C6: ふぞく はなこ | D6: 女 | E6: 25 | F6: 5 | G6: 12 | H6: 函館市美原３丁目４８番６号 | I6: A | J6: B | K6: A | L6: B | M6: A | N6: A | O6: A | P6: A | Q6: A | R6: B | S6: C | T6: B | U6: B | V6: A | W6: A | X6: B | Y6: B | Z6: B | AA6: B | AB6: A | AC6: A | AD6: A | AE6: A | AF6: A | AG6: A | AH6: A | AI6: A | AJ6: ◎ | AK6: ○ | AL6: ○ | AM6: ○ | AN6: ○ | AO6: ◎ | AP6: ◎ | AQ6: ◎ | AR6: ○ | AS6: △ | AT6: 学級委員･広報係 | AU6: なし | AV6: バスケットボール部 | AW6: 209 | AX6: 4 | AY6: 風邪４日（オンライン授業参加100日） | AZ6: =LEN(AY6) -> 19
A7: 1 | AZ7: =LEN(AY7) -> 0
A8: 2 | AZ8: =LEN(AY8) -> 0
A9: 3 | AZ9: =LEN(AY9) -> 0
A10: 4 | AZ10: =LEN(AY10) -> 0
A11: 5 | AZ11: =LEN(AY11) -> 0
A12: 6 | AZ12: =LEN(AY12) -> 0
A13: 7 | AZ13: =LEN(AY13) -> 0
A14: 8 | AZ14: =LEN(AY14) -> 0
A15: 9 | AZ15: =LEN(AY15) -> 0
A16: 10 | AZ16: =LEN(AY16) -> 0
A17: 11 | AZ17: =LEN(AY17) -> 0
A18: 12 | AZ18: =LEN(AY18) -> 0
... A106: 100 | AZ106: =LEN(AY106) -> 0

Sheet 小６_データ入力シート
A1: 小６_データ入力シート 「1.志願者」情報は小５データに入力してください。 ※黄色のセルに必要事項を入力してください。 ※「印刷用」シートに印刷番号を入力して印刷してください。
A2: 1 | B2: 2 | C2: 3 | D2: 4 | E2: 5 | F2: 6 | G2: 7 | H2: 8 | I2: 9 | J2: 10 | K2: 11 | L2: 12 | M2: 13 | N2: 14 | O2: 15 | P2: 16 | Q2: 17 | R2: 18 | S2: 19 | T2: 20 | U2: 21 | V2: 22 | W2: 23 | X2: 24 | Y2: 25 | Z2: 26 | AA2: 27 | AB2: 28 | AC2: 29 | AD2: 30 | AE2: 31 | AF2: 32 | AG2: 33 | AH2: 34 | AI2: 35 | AJ2: 36 | AK2: 37 | AL2: 38 | AM2: 39 | AN2: 40 | AO2: 41 | AP2: 42 | AQ2: 43 | AR2: 44 | AS2: 45 | AT2: 46 | AU2: 47 | AV2: 48 | AW2: 49 | AX2: 50 | AY2: 51 | AZ2: 52
A3: 印刷 番号 | B3: １．志願者 | I3: ２．各教科の学習の記録 ※評価は「A」・「B」・「C」の３段階評価で入力してください。 | AJ3: ３．行動の記録 | AT3: ４．特別活動の記録 | AW3: ５．出欠の記録 ※「出席日数」は自動計算のため入力の必要はありません。
B4: 氏名 （漢字） | C4: ふりがな （ひらがな） | D4: 性 別 | E4: 生年月日 | H4: 現住所 | I4: 国語 | L4: 社会 | O4: 算数 | R4: 理科 | U4: 音楽 | X4: 図画工作 | AA4: 家庭 | AD4: 体育 | AG4: 外国語 | AJ4: ※「◎」・「○」・「△」の３段階評価で入力してください。 | AT4: 学習活動 | AU4: 児童会活動 | AV4: クラブ活動 | AW4: 出席すべ き日数 | AX4: 欠席 日数 | AY4: 欠席理由（最大２５字以内） | AZ4: 字数
E5: 平成 | F5: 月 | G5: 日生 | I5: 知 | J5: 思 | K5: 主 | L5: 知 | M5: 思 | N5: 主 | O5: 知 | P5: 思 | Q5: 主 | R5: 知 | S5: 思 | T5: 主 | U5: 知 | V5: 思 | W5: 主 | X5: 知 | Y5: 思 | Z5: 主 | AA5: 知 | AB5: 思 | AC5: 主 | AD5: 知 | AE5: 思 | AF5: 主 | AG5: 知 | AH5: 思 | AI5: 主 | AJ5: 基本 | AK5: 健康 | AL5: 自主 | AM5: 責任 | AN5: 創意 | AO5: 思い | AP5: 生命 | AQ5: 勤労 | AR5: 公正 | AS5: 公共
A6: 記入例 | B6: 附属 花子 | C6: ふぞく はなこ | D6: 女 | E6: 25 | F6: 5 | G6: 12 | H6: 函館市美原３丁目４８番６号 | I6: A | J6: B | K6: A | L6: B | M6: A | N6: A | O6: A | P6: A | Q6: A | R6: B | S6: C | T6: B | U6: B | V6: A | W6: A | X6: B | Y6: B | Z6: B | AA6: B | AB6: A | AC6: A | AD6: A | AE6: A | AF6: A | AG6: A | AH6: A | AI6: A | AJ6: ◎ | AK6: ○ | AL6: ○ | AM6: ○ | AN6: ○ | AO6: ◎ | AP6: ◎ | AQ6: ◎ | AR6: ○ | AS6: △ | AT6: 学級委員･広報係 | AU6: なし | AV6: バスケットボール部 | AW6: 209 | AX6: 4 | AY6: 風邪４日（オンライン授業参加100日） | AZ6: =LEN(AY6) -> 19
A7: 1 | B7: =IF(小５_データ入力シート!B7="","",小５_データ入力シート!B7) | C7: =IF(小５_データ入力シート!C7="","",小５_データ入力シート!C7) | D7: =IF(小５_データ入力シート!D7="","",小５_データ入力シート!D7) | E7: =IF(小５_データ入力シート!E7="","",小５_データ入力シート!E7) | F7: =IF(小５_データ入力シート!F7="","",小５_データ入力シート!F7) | G7: =IF(小５_データ入力シート!G7="","",小５_データ入力シート!G7) | H7: =IF(小５_データ入力シート!H7="","",小５_データ入力シート!H7) | AZ7: =LEN(AY7) -> 0
A8: 2 | B8: =IF(小５_データ入力シート!B8="","",小５_データ入力シート!B8) | C8: =IF(小５_データ入力シート!C8="","",小５_データ入力シート!C8) | D8: =IF(小５_データ入力シート!D8="","",小５_データ入力シート!D8) | E8: =IF(小５_データ入力シート!E8="","",小５_データ入力シート!E8) | F8: =IF(小５_データ入力シート!F8="","",小５_データ入力シート!F8) | G8: =IF(小５_データ入力シート!G8="","",小５_データ入力シート!G8) | H8: =IF(小５_データ入力シート!H8="","",小５_データ入力シート!H8) | AZ8: =LEN(AY8) -> 0
A9: 3 | B9: =IF(小５_データ入力シート!B9="","",小５_データ入力シート!B9) | C9: =IF(小５_データ入力シート!C9="","",小５_データ入力シート!C9) | D9: =IF(小５_データ入力シート!D9="","",小５_データ入力シート!D9) | E9: =IF(小５_データ入力シート!E9="","",小５_データ入力シート!E9) | F9: =IF(小５_データ入力シート!F9="","",小５_データ入力シート!F9) | G9: =IF(小５_データ入力シート!G9="","",小５_データ入力シート!G9) | H9: =IF(小５_データ入力シート!H9="","",小５_データ入力シート!H9) | AZ9: =LEN(AY9) -> 0
A10: 4 | B10: =IF(小５_データ入力シート!B10="","",小５_データ入力シート!B10) | C10: =IF(小５_データ入力シート!C10="","",小５_データ入力シート!C10) | D10: =IF(小５_データ入力シート!D10="","",小５_データ入力シート!D10) | E10: =IF(小５_データ入力シート!E10="","",小５_データ入力シート!E10) | F10: =IF(小５_データ入力シート!F10="","",小５_データ入力シート!F10) | G10: =IF(小５_データ入力シート!G10="","",小５_データ入力シート!G10) | H10: =IF(小５_データ入力シート!H10="","",小５_データ入力シート!H10) | AZ10: =LEN(AY10) -> 0
A11: 5 | B11: =IF(小５_データ入力シート!B11="","",小５_データ入力シート!B11) | C11: =IF(小５_データ入力シート!C11="","",小５_データ入力シート!C11) | D11: =IF(小５_データ入力シート!D11="","",小５_データ入力シート!D11) | E11: =IF(小５_データ入力シート!E11="","",小５_データ入力シート!E11) | F11: =IF(小５_データ入力シート!F11="","",小５_データ入力シート!F11) | G11: =IF(小５_データ入力シート!G11="","",小５_データ入力シート!G11) | H11: =IF(小５_データ入力シート!H11="","",小５_データ入力シート!H11) | AZ11: =LEN(AY11) -> 0
A12: 6 | B12: =IF(小５_データ入力シート!B12="","",小５_データ入力シート!B12) | C12: =IF(小５_データ入力シート!C12="","",小５_データ入力シート!C12) | D12: =IF(小５_データ入力シート!D12="","",小５_データ入力シート!D12) | E12: =IF(小５_データ入力シート!E12="","",小５_データ入力シート!E12) | F12: =IF(小５_データ入力シート!F12="","",小５_データ入力シート!F12) | G12: =IF(小５_データ入力シート!G12="","",小５_データ入力シート!G12) | H12: =IF(小５_データ入力シート!H12="","",小５_データ入力シート!H12) | AZ12: =LEN(AY12) -> 0
A13: 7 | B13: =IF(小５_データ入力シート!B13="","",小５_データ入力シート!B13) | C13: =IF(小５_データ入力シート!C13="","",小５_データ入力シート!C13) | D13: =IF(小５_データ入力シート!D13="","",小５_データ入力シート!D13) | E13: =IF(小５_データ入力シート!E13="","",小５_データ入力シート!E13) | F13: =IF(小５_データ入力シート!F13="","",小５_データ入力シート!F13) | G13: =IF(小５_データ入力シート!G13="","",小５_データ入力シート!G13) | H13: =IF(小５_データ入力シート!H13="","",小５_データ入力シート!H13) | AZ13: =LEN(AY13) -> 0
A14: 8 | B14: =IF(小５_データ入力シート!B14="","",小５_データ入力シート!B14) | C14: =IF(小５_データ入力シート!C14="","",小５_データ入力シート!C14) | D14: =IF(小５_データ入力シート!D14="","",小５_データ入力シート!D14) | E14: =IF(小５_データ入力シート!E14="","",小５_データ入力シート!E14) | F14: =IF(小５_データ入力シート!F14="","",小５_データ入力シート!F14) | G14: =IF(小５_データ入力シート!G14="","",小５_データ入力シート!G14) | H14: =IF(小５_データ入力シート!H14="","",小５_データ入力シート!H14) | AZ14: =LEN(AY14) -> 0
A15: 9 | B15: =IF(小５_データ入力シート!B15="","",小５_データ入力シート!B15) | C15: =IF(小５_データ入力シート!C15="","",小５_データ入力シート!C15) | D15: =IF(小５_データ入力シート!D15="","",小５_データ入力シート!D15) | E15: =IF(小５_データ入力シート!E15="","",小５_データ入力シート!E15) | F15: =IF(小５_データ入力シート!F15="","",小５_データ入力シート!F15) | G15: =IF(小５_データ入力シート!G15="","",小５_データ入力シート!G15) | H15: =IF(小５_データ入力シート!H15="","",小５_データ入力シート!H15) | AZ15: =LEN(AY15) -> 0
A16: 10 | B16: =IF(小５_データ入力シート!B16="","",小５_データ入力シート!B16) | C16: =IF(小５_データ入力シート!C16="","",小５_データ入力シート!C16) | D16: =IF(小５_データ入力シート!D16="","",小５_データ入力シート!D16) | E16: =IF(小５_データ入力シート!E16="","",小５_データ入力シート!E16) | F16: =IF(小５_データ入力シート!F16="","",小５_データ入力シート!F16) | G16: =IF(小５_データ入力シート!G16="","",小５_データ入力シート!G16) | H16: =IF(小５_データ入力シート!H16="","",小５_データ入力シート!H16) | AZ16: =LEN(AY16) -> 0
A17: 11 | B17: =IF(小５_データ入力シート!B17="","",小５_データ入力シート!B17) | C17: =IF(小５_データ入力シート!C17="","",小５_データ入力シート!C17) | D17: =IF(小５_データ入力シート!D17="","",小５_データ入力シート!D17) | E17: =IF(小５_データ入力シート!E17="","",小５_データ入力シート!E17) | F17: =IF(小５_データ入力シート!F17="","",小５_データ入力シート!F17) | G17: =IF(小５_データ入力シート!G17="","",小５_データ入力シート!G17) | H17: =IF(小５_データ入力シート!H17="","",小５_データ入力シート!H17) | AZ17: =LEN(AY17) -> 0
A18: 12 | B18: =IF(小５_データ入力シート!B18="","",小５_データ入力シート!B18) | C18: =IF(小５_データ入力シート!C18="","",小５_データ入力シート!C18) | D18: =IF(小５_データ入力シート!D18="","",小５_データ入力シート!D18) | E18: =IF(小５_データ入力シート!E18="","",小５_データ入力シート!E18) | F18: =IF(小５_データ入力シート!F18="","",小５_データ入力シート!F18) | G18: =IF(小５_データ入力シート!G18="","",小５_データ入力シート!G18) | H18: =IF(小５_データ入力シート!H18="","",小５_データ入力シート!H18) | AZ18: =LEN(AY18) -> 0
... A106: 100 | B106: =IF(小５_データ入力シート!B106="","",小５_データ入力シート!B106) | C106: =IF(小５_データ入力シート!C106="","",小５_データ入力シート!C106) | D106: =IF(小５_データ入力シート!D106="","",小５_データ入力シート!D106) | E106: =IF(小５_データ入力シート!E106="","",小５_データ入力シート!E106) | F106: =IF(小５_データ入力シート!F106="","",小５_データ入力シート!F106) | G106: =IF(小５_データ入力シート!G106="","",小５_データ入力シート!G106) | H106: =IF(小５_データ入力シート!H106="","",小５_データ入力シート!H106) | AZ106: =LEN(AY106) -> 0
